BEGIN:VCALENDAR
VERSION:2.0
PRODID:-//hacksw/handcal//NONSGML v1.0//EN
BEGIN:VEVENT
SUMMARY:Bois de Paiolive
UID:7aa56796-7f93-4eb1-9fb4-bef3dbe1f698
DTSTART:20260512T070000Z
DTEND:20260512T150000Z
LOCATION:Localisation   
CATEGORIES:Sportif
STATUS:
DESCRIPTION:<p><b>Animateur</b> : Jose-Luis RUIZ (06 13 79 82
 18)</p>
 
 <p>- <b>1er RDV </b>au Foyer l’ENSOLHEDA, pour un depart
 a<b> 9</b><b>heures </b>au plus tard.</p>
 
 <p><b>Covoiturage</b> :
 trajet A/R : <b>km</b>, soit <b>€</b> a partager par vehicule.</p>
URL;VALUE=URI:https://cade30.sportsregions.fr/evenements/2026/05/12/bois-de-paiolive-2433613
END:VEVENT
END:VCALENDAR
