BEGIN:VCALENDAR
VERSION:2.0
PRODID:-//hacksw/handcal//NONSGML v1.0//EN
BEGIN:VEVENT
SUMMARY:Cannes et Clairan
UID:5afd069b-10ca-4250-8edf-681c43361525
DTSTART:20260526T070000Z
DTEND:20260526T150000Z
LOCATION:Localisation   
CATEGORIES:Sportif
STATUS:
DESCRIPTION:<p><span style="font-size:12pt;"><span><span
 style="font-family:'Liberation Serif', serif;"><b><span><span
 style="color:#000000;">Animateur</span></span></b><span><span
 style="color:#000000;"> : Alain BURILLO (06 49 32 18
 21)</span></span></span></span></span></p>
 
 <p>Distance :
 km</p>
 
 <p>Denivele : m</p>
 
 <p>- <b>1er RDV </b>au Foyer
 l’ENSOLHEDA, pour un depart a<b> 9 </b><b>heures  </b>au plus
 tard.</p>
 
 <p><b>Covoiturage</b> : trajet A/R : <b>km</b>, soit
 <b>€</b> a partager par vehicule. 0,25€/km</p>
URL;VALUE=URI:https://cade30.sportsregions.fr/evenements/2026/05/26/cannes-et-clairan-2435870
END:VEVENT
END:VCALENDAR
