BEGIN:VCALENDAR
VERSION:2.0
PRODID:-//hacksw/handcal//NONSGML v1.0//EN
BEGIN:VEVENT
SUMMARY:Rando GALLICIAN
UID:f279a967-87ce-4a3b-8150-6556f9e90146
DTSTART:20260609T070000Z
DTEND:20260609T150000Z
LOCATION:Localisation   
CATEGORIES:Sportif
STATUS:
DESCRIPTION:<p class="Textbody"><font color="#000000" face="Calibri,
 sans-serif"><span style="font-size:16px;"><b>Rando GALLICIAN ></b>
 peut se modifier.</span></font></p>
 
 <p class="Textbody"><span
 style="font-size:12pt;"><span><span style="font-family:'Liberation
 Serif', serif;"><b><span><span
 style="color:#000000;">Animateur</span></span></b><span><span
 style="color:#000000;"> : Jean Marc CARCIANI (06 60 77 85
 17)</span></span></span></span></span></p>
 
 <p class="Textbody"><span
 style="font-size:12pt;"><span><span style="font-family:'Liberation
 Serif', serif;"><span style="font-size:11pt;"><span><span><span
 style="color:#000000;">Distance : 14,91
 km</span></span></span></span></span></span></span></p>
 
 <p
 class="Textbody"><span style="font-size:12pt;"><span><span
 style="font-family:'Liberation Serif', serif;"><span
 style="font-size:11pt;"><span><span style="font-family:Calibri,
 sans-serif;"><span style="color:#000000;">Denivele : 51
 m</span></span></span></span></span></span></span></p>
 
 <p
 class="Textbody"><span style="font-size:12pt;"><span><span
 style="font-family:'Liberation Serif', serif;"><span><span
 style="color:#000000;">- <b>1er RDV </b>au Foyer l’ENSOLHEDA, pour
 un depart a<b> 8</b></span></span><b><span>heures 30
 </span></b><span><span style="color:#000000;">au plus
 tard.</span></span></span></span></span></p>
 
 <p
 class="Textbody"><span style="font-size:12pt;"><span><span
 style="font-family:'Liberation Serif', serif;"><b><span><span
 style="color:#000000;">Covoiturage</span></span></b> <span><span
 style="color:#000000;">: trajet A/R : <strong>70 </strong><b>km</b>,
 soit <strong>17,50 </strong></span></span><b><span
 style="color:#000000;">€</span></b> <span><span
 style="color:#000000;">a partager par
 vehicule. </span></span></span></span></span></p>
URL;VALUE=URI:https://cade30.sportsregions.fr/evenements/2026/06/09/rando-gallician-2435871
END:VEVENT
END:VCALENDAR
